BEGIN:VCALENDAR
VERSION:2.0
PRODID:-//Bailout Band - ECPv6.5.1.5//NONSGML v1.0//EN
CALSCALE:GREGORIAN
METHOD:PUBLISH
X-WR-CALNAME:Bailout Band
X-ORIGINAL-URL:https://2big2fail.net
X-WR-CALDESC:Events for Bailout Band
REFRESH-INTERVAL;VALUE=DURATION:PT1H
X-Robots-Tag:noindex
X-PUBLISHED-TTL:PT1H
BEGIN:VTIMEZONE
TZID:UTC
BEGIN:STANDARD
TZOFFSETFROM:+0000
TZOFFSETTO:+0000
TZNAME:UTC
DTSTART:20240101T000000
END:STANDARD
END:VTIMEZONE
BEGIN:VEVENT
DTSTART;TZID=UTC:20240531T183000
DTEND;TZID=UTC:20240531T200000
DTSTAMP:20260424T033430
CREATED:20240525T162334Z
LAST-MODIFIED:20240525T162334Z
UID:1240-1717180200-1717185600@2big2fail.net
SUMMARY:In Concert - Ocean Isle Beach Concert Series
DESCRIPTION:
URL:https://2big2fail.net/event/in-concert-ocean-isle-beach-concert-series/
LOCATION:Town Center Park Ocean Isle Beach
ATTACH;FMTTYPE=image/jpeg:https://2big2fail.net/wp-content/uploads/2024/05/IMG_5778-copy.jpeg
END:VEVENT
END:VCALENDAR